Package: RNAseqCovarImpute Version: 1.4.0 Command: rm -rf RNAseqCovarImpute.buildbin-libdir && mkdir RNAseqCovarImpute.buildbin-libdir && /Users/biocbuild/BBS/utils/build-universal.sh RNAseqCovarImpute_1.4.0.tar.gz /Library/Frameworks/R.framework/Resources/bin/R RNAseqCovarImpute.buildbin-libdir StartedAt: 2025-02-05 17:31:24 -0500 (Wed, 05 Feb 2025) EndedAt: 2025-02-05 17:31:37 -0500 (Wed, 05 Feb 2025) EllapsedTime: 13.7 seconds RetCode: 0 Status: OK PackageFile: RNAseqCovarImpute_1.4.0.tgz PackageFileSize: 799.6 KiB