Package: RNAseqCovarImpute Version: 1.4.0 Command: /Library/Frameworks/R.framework/Resources/bin/R CMD check --install=check:RNAseqCovarImpute.install-out.txt --library=/Library/Frameworks/R.framework/Resources/library --no-vignettes --timings RNAseqCovarImpute_1.4.0.tar.gz StartedAt: 2025-02-01 07:08:09 -0500 (Sat, 01 Feb 2025) EndedAt: 2025-02-01 07:10:23 -0500 (Sat, 01 Feb 2025) EllapsedTime: 134.2 seconds RetCode: 0 Status: OK CheckDir: RNAseqCovarImpute.Rcheck Warnings: 0