Package: RNAseqCovarImpute Version: 1.4.0 Command: /home/biocbuild/bbs-3.20-bioc/R/bin/R CMD build --keep-empty-dirs --no-resave-data --md5 RNAseqCovarImpute StartedAt: 2025-01-30 18:53:13 -0500 (Thu, 30 Jan 2025) EndedAt: 2025-01-30 18:53:58 -0500 (Thu, 30 Jan 2025) EllapsedTime: 45.1 seconds RetCode: 0 Status: OK PackageFile: RNAseqCovarImpute_1.4.0.tar.gz PackageFileSize: 769.4 KiB