Package: RNAseqCovarImpute Version: 1.4.0 Command: /home/biocbuild/bbs-3.20-bioc/R/bin/R CMD INSTALL RNAseqCovarImpute StartedAt: 2025-01-30 15:45:04 -0500 (Thu, 30 Jan 2025) EndedAt: 2025-01-30 15:45:16 -0500 (Thu, 30 Jan 2025) EllapsedTime: 12.1 seconds RetCode: 0 Status: OK