Package: ROC Version: 1.82.0 Maintainer: Vince Carey MaintainerEmail: stvjc at channing.harvard.edu git_url: https://git.bioconductor.org/packages/ROC git_branch: RELEASE_3_20 git_last_commit: dc67803 git_last_commit_date: 2024-10-29 09:20:59 -0500 (Tue, 29 Oct 2024)