Package: ROC Version: 1.82.0 Command: rm -rf ROC.buildbin-libdir && mkdir ROC.buildbin-libdir && /Users/biocbuild/BBS/utils/build-universal.sh ROC_1.82.0.tar.gz /Library/Frameworks/R.framework/Resources/bin/R ROC.buildbin-libdir StartedAt: 2025-02-05 17:31:55 -0500 (Wed, 05 Feb 2025) EndedAt: 2025-02-05 17:32:00 -0500 (Wed, 05 Feb 2025) EllapsedTime: 5.7 seconds RetCode: 0 Status: OK PackageFile: ROC_1.82.0.tgz PackageFileSize: 270.7 KiB