Package: ROC Version: 1.82.0 Command: /Library/Frameworks/R.framework/Resources/bin/R CMD check --install=check:ROC.install-out.txt --library=/Library/Frameworks/R.framework/Resources/library --no-vignettes --timings ROC_1.82.0.tar.gz StartedAt: 2025-02-05 08:02:58 -0500 (Wed, 05 Feb 2025) EndedAt: 2025-02-05 08:03:24 -0500 (Wed, 05 Feb 2025) EllapsedTime: 26.7 seconds RetCode: 0 Status: OK CheckDir: ROC.Rcheck Warnings: 0