Package: ROC Version: 1.82.0 Command: /Library/Frameworks/R.framework/Resources/bin/R CMD check --install=check:ROC.install-out.txt --library=/Library/Frameworks/R.framework/Resources/library --no-vignettes --timings ROC_1.82.0.tar.gz StartedAt: 2024-11-09 11:45:16 -0500 (Sat, 09 Nov 2024) EndedAt: 2024-11-09 11:49:09 -0500 (Sat, 09 Nov 2024) EllapsedTime: 233.2 seconds RetCode: 0 Status: OK CheckDir: ROC.Rcheck Warnings: 0