Package: ROC Version: 1.82.0 Command: rm -rf ROC.buildbin-libdir && mkdir ROC.buildbin-libdir && /Users/biocbuild/BBS/utils/build-universal.sh ROC_1.82.0.tar.gz /Library/Frameworks/R.framework/Resources/bin/R ROC.buildbin-libdir StartedAt: 2025-01-31 13:33:58 -0500 (Fri, 31 Jan 2025) EndedAt: 2025-01-31 13:34:05 -0500 (Fri, 31 Jan 2025) EllapsedTime: 7.1 seconds RetCode: 0 Status: OK PackageFile: ROC_1.82.0.tgz PackageFileSize: 271 KiB