Package: ROC Version: 1.82.0 Command: /Library/Frameworks/R.framework/Resources/bin/R CMD check --install=check:ROC.install-out.txt --library=/Library/Frameworks/R.framework/Resources/library --no-vignettes --timings ROC_1.82.0.tar.gz StartedAt: 2025-02-04 09:12:09 -0500 (Tue, 04 Feb 2025) EndedAt: 2025-02-04 09:12:57 -0500 (Tue, 04 Feb 2025) EllapsedTime: 48.0 seconds RetCode: 0 Status: OK CheckDir: ROC.Rcheck Warnings: 0