Package: ROC Version: 1.82.0 Command: /home/biocbuild/bbs-3.20-bioc/R/bin/R CMD build --keep-empty-dirs --no-resave-data --md5 ROC StartedAt: 2025-01-30 18:53:58 -0500 (Thu, 30 Jan 2025) EndedAt: 2025-01-30 18:54:02 -0500 (Thu, 30 Jan 2025) EllapsedTime: 4.0 seconds RetCode: 0 Status: OK PackageFile: ROC_1.82.0.tar.gz PackageFileSize: 251.5 KiB