Package: ROC Version: 1.82.0 Command: /home/biocbuild/bbs-3.20-bioc/R/bin/R CMD INSTALL ROC StartedAt: 2025-01-30 15:08:26 -0500 (Thu, 30 Jan 2025) EndedAt: 2025-01-30 15:08:39 -0500 (Thu, 30 Jan 2025) EllapsedTime: 12.9 seconds RetCode: 0 Status: OK