Package: ROC Version: 1.82.0 Command: rm -rf ROC.buildbin-libdir && mkdir ROC.buildbin-libdir && F:\biocbuild\bbs-3.20-bioc\R\bin\R.exe CMD INSTALL --build --library=ROC.buildbin-libdir ROC_1.82.0.tar.gz StartedAt: 2025-02-04 09:22:51 -0500 (Tue, 04 Feb 2025) EndedAt: 2025-02-04 09:23:00 -0500 (Tue, 04 Feb 2025) EllapsedTime: 9.1 seconds RetCode: 0 Status: OK PackageFile: ROC_1.82.0.zip PackageFileSize: 278 KiB