Package: ROC Version: 1.82.0 Command: chmod a+r ROC -R && F:\biocbuild\bbs-3.20-bioc\R\bin\R.exe CMD build --keep-empty-dirs --no-resave-data ROC StartedAt: 2025-01-30 21:28:39 -0500 (Thu, 30 Jan 2025) EndedAt: 2025-01-30 21:28:51 -0500 (Thu, 30 Jan 2025) EllapsedTime: 12.0 seconds RetCode: 0 Status: OK PackageFile: ROC_1.82.0.tar.gz PackageFileSize: 251.2 KiB