Package: ROC Version: 1.82.0 Command: F:\biocbuild\bbs-3.20-bioc\R\bin\R.exe CMD INSTALL ROC StartedAt: 2025-02-03 15:40:30 -0500 (Mon, 03 Feb 2025) EndedAt: 2025-02-03 15:40:49 -0500 (Mon, 03 Feb 2025) EllapsedTime: 18.5 seconds RetCode: 0 Status: OK