Package: ROC Version: 1.82.0 Command: /home/biocbuild/R/R/bin/R CMD build --keep-empty-dirs --no-resave-data ROC StartedAt: 2025-01-31 02:16:58 -0000 (Fri, 31 Jan 2025) EndedAt: 2025-01-31 02:17:04 -0000 (Fri, 31 Jan 2025) EllapsedTime: 6.0 seconds RetCode: 0 Status: OK PackageFile: ROC_1.82.0.tar.gz PackageFileSize: 277.6 KiB