Package: ROSeq Version: 1.18.0 Command: /Library/Frameworks/R.framework/Resources/bin/R CMD INSTALL ROSeq StartedAt: 2025-02-03 15:19:57 -0500 (Mon, 03 Feb 2025) EndedAt: 2025-02-03 15:20:11 -0500 (Mon, 03 Feb 2025) EllapsedTime: 13.4 seconds RetCode: 0 Status: OK