Package: ROSeq Version: 1.18.0 Command: rm -rf ROSeq.buildbin-libdir && mkdir ROSeq.buildbin-libdir && /Users/biocbuild/BBS/utils/build-universal.sh ROSeq_1.18.0.tar.gz /Library/Frameworks/R.framework/Resources/bin/R ROSeq.buildbin-libdir StartedAt: 2025-01-31 13:34:21 -0500 (Fri, 31 Jan 2025) EndedAt: 2025-01-31 13:34:42 -0500 (Fri, 31 Jan 2025) EllapsedTime: 21.7 seconds RetCode: 0 Status: OK PackageFile: ROSeq_1.18.0.tgz PackageFileSize: 7.21 MiB