Package: ROSeq Version: 1.18.0 Command: /Library/Frameworks/R.framework/Resources/bin/R CMD build --keep-empty-dirs --no-resave-data ROSeq StartedAt: 2025-02-03 21:49:41 -0500 (Mon, 03 Feb 2025) EndedAt: 2025-02-03 21:56:54 -0500 (Mon, 03 Feb 2025) EllapsedTime: 432.6 seconds RetCode: 0 Status: OK PackageFile: ROSeq_1.18.0.tar.gz PackageFileSize: 4.19 MiB