Package: ROSeq Version: 1.18.0 Command: /home/biocbuild/bbs-3.20-bioc/R/bin/R CMD build --keep-empty-dirs --no-resave-data --md5 ROSeq StartedAt: 2025-02-03 19:04:15 -0500 (Mon, 03 Feb 2025) EndedAt: 2025-02-03 19:06:47 -0500 (Mon, 03 Feb 2025) EllapsedTime: 151.2 seconds RetCode: 0 Status: OK PackageFile: ROSeq_1.18.0.tar.gz PackageFileSize: 4.192 MiB