Package: ROSeq Version: 1.18.0 Command: /home/biocbuild/bbs-3.20-bioc/R/bin/R CMD INSTALL ROSeq StartedAt: 2025-02-03 15:16:58 -0500 (Mon, 03 Feb 2025) EndedAt: 2025-02-03 15:17:05 -0500 (Mon, 03 Feb 2025) EllapsedTime: 6.7 seconds RetCode: 0 Status: OK