Package: ROSeq Version: 1.18.0 Command: /home/biocbuild/R/R/bin/R CMD INSTALL ROSeq StartedAt: 2025-02-03 20:27:00 -0000 (Mon, 03 Feb 2025) EndedAt: 2025-02-03 20:27:33 -0000 (Mon, 03 Feb 2025) EllapsedTime: 33.1 seconds RetCode: 0 Status: OK