Package: ROTS Version: 1.34.0 Command: /Library/Frameworks/R.framework/Resources/bin/R CMD build --keep-empty-dirs --no-resave-data ROTS StartedAt: 2025-02-04 06:58:47 -0500 (Tue, 04 Feb 2025) EndedAt: 2025-02-04 06:59:14 -0500 (Tue, 04 Feb 2025) EllapsedTime: 27.4 seconds RetCode: 0 Status: OK PackageFile: ROTS_1.34.0.tar.gz PackageFileSize: 454.7 KiB