Package: ROTS Version: 1.34.0 Command: rm -rf ROTS.buildbin-libdir && mkdir ROTS.buildbin-libdir && /Users/biocbuild/BBS/utils/build-universal.sh ROTS_1.34.0.tar.gz /Library/Frameworks/R.framework/Resources/bin/R ROTS.buildbin-libdir StartedAt: 2025-01-31 13:34:24 -0500 (Fri, 31 Jan 2025) EndedAt: 2025-01-31 13:34:55 -0500 (Fri, 31 Jan 2025) EllapsedTime: 31.2 seconds RetCode: 0 Status: OK PackageFile: ROTS_1.34.0.tgz PackageFileSize: 526.1 KiB