Package: ROTS Version: 1.34.0 Command: /Library/Frameworks/R.framework/Resources/bin/R CMD build --keep-empty-dirs --no-resave-data ROTS StartedAt: 2025-02-03 21:50:00 -0500 (Mon, 03 Feb 2025) EndedAt: 2025-02-03 21:50:47 -0500 (Mon, 03 Feb 2025) EllapsedTime: 47.2 seconds RetCode: 0 Status: OK PackageFile: ROTS_1.34.0.tar.gz PackageFileSize: 454.7 KiB