Package: ROntoTools Version: 2.34.0 Command: /Library/Frameworks/R.framework/Resources/bin/R CMD build --keep-empty-dirs --no-resave-data ROntoTools StartedAt: 2025-01-31 06:48:27 -0500 (Fri, 31 Jan 2025) EndedAt: 2025-01-31 06:49:18 -0500 (Fri, 31 Jan 2025) EllapsedTime: 51.2 seconds RetCode: 0 Status: OK PackageFile: ROntoTools_2.34.0.tar.gz PackageFileSize: 1.487 MiB