Package: ROntoTools Version: 2.34.0 Command: /Library/Frameworks/R.framework/Resources/bin/R CMD build --keep-empty-dirs --no-resave-data ROntoTools StartedAt: 2025-02-03 21:49:25 -0500 (Mon, 03 Feb 2025) EndedAt: 2025-02-03 21:51:11 -0500 (Mon, 03 Feb 2025) EllapsedTime: 105.2 seconds RetCode: 0 Status: OK PackageFile: ROntoTools_2.34.0.tar.gz PackageFileSize: 1.487 MiB