Package: ROntoTools Version: 2.34.0 Command: /Library/Frameworks/R.framework/Resources/bin/R CMD INSTALL ROntoTools StartedAt: 2025-02-03 15:23:02 -0500 (Mon, 03 Feb 2025) EndedAt: 2025-02-03 15:23:30 -0500 (Mon, 03 Feb 2025) EllapsedTime: 27.8 seconds RetCode: 0 Status: OK