Package: ROntoTools Version: 2.34.0 Command: chmod a+r ROntoTools -R && F:\biocbuild\bbs-3.20-bioc\R\bin\R.exe CMD build --keep-empty-dirs --no-resave-data ROntoTools StartedAt: 2025-01-30 21:29:36 -0500 (Thu, 30 Jan 2025) EndedAt: 2025-01-30 21:30:39 -0500 (Thu, 30 Jan 2025) EllapsedTime: 63.2 seconds RetCode: 0 Status: OK PackageFile: ROntoTools_2.34.0.tar.gz PackageFileSize: 1.356 MiB