Package: ROntoTools Version: 2.34.0 Command: F:\biocbuild\bbs-3.20-bioc\R\bin\R.exe CMD INSTALL ROntoTools StartedAt: 2025-01-30 15:44:28 -0500 (Thu, 30 Jan 2025) EndedAt: 2025-01-30 15:45:02 -0500 (Thu, 30 Jan 2025) EllapsedTime: 34.8 seconds RetCode: 0 Status: OK