Package: RProtoBufLib Version: 2.18.0 Command: /Library/Frameworks/R.framework/Resources/bin/R CMD build --keep-empty-dirs --no-resave-data RProtoBufLib StartedAt: 2025-02-03 21:50:45 -0500 (Mon, 03 Feb 2025) EndedAt: 2025-02-03 22:01:01 -0500 (Mon, 03 Feb 2025) EllapsedTime: 616.4 seconds RetCode: 0 Status: OK PackageFile: RProtoBufLib_2.18.0.tar.gz PackageFileSize: 2.786 MiB