Package: RProtoBufLib Version: 2.18.0 Command: /home/biocbuild/bbs-3.20-bioc/R/bin/R CMD INSTALL RProtoBufLib StartedAt: 2025-02-03 15:13:13 -0500 (Mon, 03 Feb 2025) EndedAt: 2025-02-03 15:17:40 -0500 (Mon, 03 Feb 2025) EllapsedTime: 267.1 seconds RetCode: 0 Status: OK