Package: RProtoBufLib Version: 2.18.0 Command: /home/biocbuild/R/R/bin/R CMD INSTALL RProtoBufLib StartedAt: 2025-02-03 20:21:04 -0000 (Mon, 03 Feb 2025) EndedAt: 2025-02-03 20:27:29 -0000 (Mon, 03 Feb 2025) EllapsedTime: 384.7 seconds RetCode: 0 Status: OK