Package: RSVSim Version: 1.46.0 Command: /Library/Frameworks/R.framework/Resources/bin/R CMD build --keep-empty-dirs --no-resave-data RSVSim StartedAt: 2025-02-04 07:02:53 -0500 (Tue, 04 Feb 2025) EndedAt: 2025-02-04 07:03:59 -0500 (Tue, 04 Feb 2025) EllapsedTime: 65.7 seconds RetCode: 0 Status: OK PackageFile: RSVSim_1.46.0.tar.gz PackageFileSize: 505 KiB