Package: RSVSim Version: 1.46.0 Command: /Library/Frameworks/R.framework/Resources/bin/R CMD check --install=check:RSVSim.install-out.txt --library=/Library/Frameworks/R.framework/Resources/library --no-vignettes --timings RSVSim_1.46.0.tar.gz StartedAt: 2025-02-04 09:19:31 -0500 (Tue, 04 Feb 2025) EndedAt: 2025-02-04 09:27:25 -0500 (Tue, 04 Feb 2025) EllapsedTime: 473.4 seconds RetCode: 0 Status: OK CheckDir: RSVSim.Rcheck Warnings: 0