Package: RSVSim Version: 1.46.0 Command: /home/biocbuild/bbs-3.20-bioc/R/bin/R CMD INSTALL RSVSim StartedAt: 2025-02-10 15:32:52 -0500 (Mon, 10 Feb 2025) EndedAt: 2025-02-10 15:33:20 -0500 (Mon, 10 Feb 2025) EllapsedTime: 28.7 seconds RetCode: 0 Status: OK