Package: RSVSim Version: 1.46.0 Command: rm -rf RSVSim.buildbin-libdir && mkdir RSVSim.buildbin-libdir && F:\biocbuild\bbs-3.20-bioc\R\bin\R.exe CMD INSTALL --build --library=RSVSim.buildbin-libdir RSVSim_1.46.0.tar.gz StartedAt: 2025-02-04 09:23:53 -0500 (Tue, 04 Feb 2025) EndedAt: 2025-02-04 09:24:33 -0500 (Tue, 04 Feb 2025) EllapsedTime: 39.7 seconds RetCode: 0 Status: OK PackageFile: RSVSim_1.46.0.zip PackageFileSize: 618.1 KiB