Package: RSeqAn Version: 1.26.0 Command: rm -rf RSeqAn.buildbin-libdir && mkdir RSeqAn.buildbin-libdir && /Users/biocbuild/BBS/utils/build-universal.sh RSeqAn_1.26.0.tar.gz /Library/Frameworks/R.framework/Resources/bin/R RSeqAn.buildbin-libdir StartedAt: 2025-02-05 17:33:54 -0500 (Wed, 05 Feb 2025) EndedAt: 2025-02-05 17:34:07 -0500 (Wed, 05 Feb 2025) EllapsedTime: 13.5 seconds RetCode: 0 Status: OK PackageFile: RSeqAn_1.26.0.tgz PackageFileSize: 1.713 MiB