Package: RSeqAn Version: 1.26.0 Command: /Library/Frameworks/R.framework/Resources/bin/R CMD check --install=check:RSeqAn.install-out.txt --library=/Library/Frameworks/R.framework/Resources/library --no-vignettes --timings RSeqAn_1.26.0.tar.gz StartedAt: 2025-02-05 08:16:23 -0500 (Wed, 05 Feb 2025) EndedAt: 2025-02-05 08:16:52 -0500 (Wed, 05 Feb 2025) EllapsedTime: 29.2 seconds RetCode: 0 Status: OK CheckDir: RSeqAn.Rcheck Warnings: 0