Package: RSeqAn Version: 1.26.0 Command: /Library/Frameworks/R.framework/Resources/bin/R CMD check --install=check:RSeqAn.install-out.txt --library=/Library/Frameworks/R.framework/Resources/library --no-vignettes --timings RSeqAn_1.26.0.tar.gz StartedAt: 2025-02-11 09:37:25 -0500 (Tue, 11 Feb 2025) EndedAt: 2025-02-11 09:38:15 -0500 (Tue, 11 Feb 2025) EllapsedTime: 50.4 seconds RetCode: 0 Status: OK CheckDir: RSeqAn.Rcheck Warnings: 0