Package: RSeqAn Version: 1.26.0 Command: /home/biocbuild/bbs-3.20-bioc/R/bin/R CMD check --install=check:RSeqAn.install-out.txt --library=/home/biocbuild/bbs-3.20-bioc/R/site-library --timings RSeqAn_1.26.0.tar.gz StartedAt: 2025-02-04 02:00:00 -0500 (Tue, 04 Feb 2025) EndedAt: 2025-02-04 02:00:25 -0500 (Tue, 04 Feb 2025) EllapsedTime: 25.0 seconds RetCode: 0 Status: OK CheckDir: RSeqAn.Rcheck Warnings: 0