Package: RSeqAn Version: 1.26.0 Command: rm -rf RSeqAn.buildbin-libdir && mkdir RSeqAn.buildbin-libdir && F:\biocbuild\bbs-3.20-bioc\R\bin\R.exe CMD INSTALL --build --library=RSeqAn.buildbin-libdir RSeqAn_1.26.0.tar.gz StartedAt: 2025-02-11 09:21:39 -0500 (Tue, 11 Feb 2025) EndedAt: 2025-02-11 09:22:32 -0500 (Tue, 11 Feb 2025) EllapsedTime: 52.9 seconds RetCode: 0 Status: OK PackageFile: RSeqAn_1.26.0.zip PackageFileSize: 2.507 MiB