Package: RSeqAn Version: 1.26.0 Command: chmod a+r RSeqAn -R && F:\biocbuild\bbs-3.20-bioc\R\bin\R.exe CMD build --keep-empty-dirs --no-resave-data RSeqAn StartedAt: 2025-02-10 21:42:30 -0500 (Mon, 10 Feb 2025) EndedAt: 2025-02-10 21:44:00 -0500 (Mon, 10 Feb 2025) EllapsedTime: 90.2 seconds RetCode: 0 Status: OK PackageFile: RSeqAn_1.26.0.tar.gz PackageFileSize: 1.618 MiB