Package: RSeqAn Version: 1.26.0 Command: F:\biocbuild\bbs-3.20-bioc\R\bin\R.exe CMD check --no-multiarch --install=check:RSeqAn.install-out.txt --library=F:\biocbuild\bbs-3.20-bioc\R\library --no-vignettes --timings RSeqAn_1.26.0.tar.gz StartedAt: 2025-02-04 05:45:39 -0500 (Tue, 04 Feb 2025) EndedAt: 2025-02-04 05:46:20 -0500 (Tue, 04 Feb 2025) EllapsedTime: 41.1 seconds RetCode: 0 Status: WARNINGS CheckDir: RSeqAn.Rcheck Warnings: 1