Package: RSeqAn Version: 1.26.0 Command: F:\biocbuild\bbs-3.20-bioc\R\bin\R.exe CMD INSTALL RSeqAn StartedAt: 2025-02-10 15:29:21 -0500 (Mon, 10 Feb 2025) EndedAt: 2025-02-10 15:32:36 -0500 (Mon, 10 Feb 2025) EllapsedTime: 194.8 seconds RetCode: 0 Status: OK