Package: RSeqAn Version: 1.26.0 Command: /home/biocbuild/R/R/bin/R CMD check --install=check:RSeqAn.install-out.txt --library=/home/biocbuild/R/R/site-library --no-vignettes --timings RSeqAn_1.26.0.tar.gz StartedAt: 2025-02-04 10:37:51 -0000 (Tue, 04 Feb 2025) EndedAt: 2025-02-04 10:38:12 -0000 (Tue, 04 Feb 2025) EllapsedTime: 21.0 seconds RetCode: 0 Status: OK CheckDir: RSeqAn.Rcheck Warnings: 0