Package: RTCGA Version: 1.36.0 Command: /Library/Frameworks/R.framework/Resources/bin/R CMD build --keep-empty-dirs --no-resave-data RTCGA StartedAt: 2025-02-03 21:52:41 -0500 (Mon, 03 Feb 2025) EndedAt: 2025-02-03 21:53:12 -0500 (Mon, 03 Feb 2025) EllapsedTime: 30.9 seconds RetCode: 0 Status: OK PackageFile: RTCGA_1.36.0.tar.gz PackageFileSize: 2.437 MiB