Package: RTCGAToolbox Version: 2.36.0 Command: rm -rf RTCGAToolbox.buildbin-libdir && mkdir RTCGAToolbox.buildbin-libdir && /Users/biocbuild/BBS/utils/build-universal.sh RTCGAToolbox_2.36.0.tar.gz /Library/Frameworks/R.framework/Resources/bin/R RTCGAToolbox.buildbin-libdir StartedAt: 2025-02-01 16:39:03 -0500 (Sat, 01 Feb 2025) EndedAt: 2025-02-01 16:39:36 -0500 (Sat, 01 Feb 2025) EllapsedTime: 32.9 seconds RetCode: 0 Status: OK PackageFile: RTCGAToolbox_2.36.0.tgz PackageFileSize: 630.2 KiB