Package: RTCGAToolbox Version: 2.36.0 Command: /Library/Frameworks/R.framework/Resources/bin/R CMD build --keep-empty-dirs --no-resave-data RTCGAToolbox StartedAt: 2025-01-31 06:54:10 -0500 (Fri, 31 Jan 2025) EndedAt: 2025-01-31 06:55:04 -0500 (Fri, 31 Jan 2025) EllapsedTime: 54.4 seconds RetCode: 0 Status: OK PackageFile: RTCGAToolbox_2.36.0.tar.gz PackageFileSize: 2.33 MiB