Package: RTCGAToolbox Version: 2.36.0 Command: /Library/Frameworks/R.framework/Resources/bin/R CMD check --install=check:RTCGAToolbox.install-out.txt --library=/Library/Frameworks/R.framework/Resources/library --no-vignettes --timings RTCGAToolbox_2.36.0.tar.gz StartedAt: 2025-02-05 08:19:15 -0500 (Wed, 05 Feb 2025) EndedAt: 2025-02-05 08:22:56 -0500 (Wed, 05 Feb 2025) EllapsedTime: 221.0 seconds RetCode: 0 Status: OK CheckDir: RTCGAToolbox.Rcheck Warnings: 0